BEGIN:VCALENDAR
VERSION:2.0
PRODID:icalendar-ruby
CALSCALE:GREGORIAN
BEGIN:VEVENT
DTSTAMP:20260424T042339Z
UID:0bd1427d-aa74-4c60-ac7d-4e4694d8a813
DTSTART;VALUE=DATE:20210520
DESCRIPTION:Property ID# 508288\, Locatoin: Auction Rooms\, 247 Cameron Roa
 d\, Tauranga. Unless sold prior\, Time: 1:00PM
SUMMARY:Auction for 
END:VEVENT
END:VCALENDAR
