BEGIN:VCALENDAR
VERSION:2.0
PRODID:icalendar-ruby
CALSCALE:GREGORIAN
BEGIN:VEVENT
DTSTAMP:20260424T013903Z
UID:d8fb300c-800e-4f14-aa6b-226334f1c562
DTSTART;VALUE=DATE:20200903
DESCRIPTION:Property ID# 486367\, Locatoin: 247 Cameron Road\, Tauranga\, T
 ime: 1:00PM
SUMMARY:Auction for 
END:VEVENT
END:VCALENDAR
