BEGIN:VCALENDAR
VERSION:2.0
PRODID:icalendar-ruby
CALSCALE:GREGORIAN
BEGIN:VEVENT
DTSTAMP:20260424T042507Z
UID:0573f9a1-3cf8-4717-9295-da651178e052
DTSTART;VALUE=DATE:20200312
DESCRIPTION:Property ID# 473053\, Locatoin: 247 Cameron Road\, Tauranga\, T
 ime: 1:00PM
SUMMARY:Auction for 
END:VEVENT
END:VCALENDAR
