BEGIN:VCALENDAR
VERSION:2.0
PRODID:icalendar-ruby
CALSCALE:GREGORIAN
BEGIN:VEVENT
DTSTAMP:20260424T042027Z
UID:c258c57b-8f1b-4899-8fb8-e50679685d63
DTSTART;VALUE=DATE:20200227
DESCRIPTION:Property ID# 472142\, Locatoin: 247 Cameron Rd\, Tauranga\, Tim
 e: 1:00PM
SUMMARY:Auction for 
END:VEVENT
END:VCALENDAR
