BEGIN:VCALENDAR
VERSION:2.0
PRODID:icalendar-ruby
CALSCALE:GREGORIAN
BEGIN:VEVENT
DTSTAMP:20260424T042355Z
UID:72ef446c-b111-43c7-a5c8-8e8d18b2735a
DTSTART;VALUE=DATE:20200130
DESCRIPTION:Property ID# 468409\, Locatoin: 247 Cameron Road\, Tauranga\, T
 ime: 12:00PM
SUMMARY:Auction for 
END:VEVENT
END:VCALENDAR
